BEGIN:VCALENDAR
METHOD:PUBLISH
PRODID:www-netzwerk-lehrkraeftebildung-bayern//Events//DE
VERSION:2.0
BEGIN:VEVENT
SUMMARY:Symposium Core Practices – Impulse für die Lehrkräftebildung
UID:6130-0907-352c-602@www.netzwerk-lehrkraeftebildung.bayern
DESCRIPTION:Core Practices und Kohärenz in der Lehrkräftebildung –
  Konkretisierungen und Anregungen am 9. April 2026 von 10 bis 17 Uhr i
 n Bamberg (Gebäude M3N/ Raum 02.32\, Markusplatz 3) Mit dem Gutachten
  zur Weiterentwicklung der Lehrkräftebildung in Bayern wird darauf ab
 gehoben\, dass Core Practices ein nächster zentraler Schritt in der E
 ntwicklung der Lehrkräftebildung sein könnten. Mit diesem Symposium 
 möchten wir uns mit dem Konzept auseinandersetzen\, es auf die unters
 chiedlichen Bereiche der Lehrkräftebildung beziehen und das Anregungs
 potenzial dieses Konzepts für die Lehrkräftebildung insbesondere in 
 Bayern reflektieren. Herzlich eingeladen sind alle in der Lehrkräfteb
 ildung tätigen Personen\, aus den Fächern\, den Fachdidaktiken und d
 en Bildungswissenschaften. Weitere Informationen\, Programm und Anmeld
 ung
DTSTART:20260409T080000Z
DTEND:20260409T150000Z
LOCATION:Bamberg (Gebäude M3N/ Raum 02.32\, Markusplatz 3)
DTSTAMP:20260421T083320Z
END:VEVENT
END:VCALENDAR