BEGIN:VCALENDAR
METHOD:PUBLISH
PRODID:www-netzwerk-lehrkraeftebildung-bayern//Events//DE
VERSION:2.0
BEGIN:VEVENT
SUMMARY:18. Bundeskongress der Zentren für Lehrkräftebildung und Pro
 fessional Schools of Education
UID:0eab-e16c-89c6-605@www.netzwerk-lehrkraeftebildung.bayern
DESCRIPTION:System unter Spannung &#8211\; Lehrkräftebildung zwischen
  Mangel\, Reform und Innovation 18. Bundeskongress der Zentren für Le
 hrkräftebildung und Professional Schools of Education Der Bundeskongr
 ess der Zentren für Lehrkräftebildung (ZfL) und Professional Schools
  of Education (PSEs) findet 2026 erneut in Flensburg statt. Er ist die
  zentrale bundesweite Plattform für Austausch\, Vernetzung und Impuls
 e zur Weiterentwicklung der Lehrkräftebildung. Im Mittelpunkt stehen 
 die zahlreichen Spannungsfelder\, unter denen sich Lehrkräftebildung 
 vollzieht: Wie kann Lehrkräftebildung trotz Fachkräftemangel Qualit
 ät sichern? Wie lassen sich Digitalisierung\, Inklusion oder Bildung 
 für nachhaltige Entwicklung strukturell verankern? Wie können Kooper
 ationen und Innovationen dazu beitragen\, das System zukunftsfähig zu
  gestalten? Mit Blick auf diese Fragen setzt der Kongress in Flensburg
  die Segel – und möchte damit neue Perspektiven für die Lehrkräft
 ebildung eröffnen. Weitere Informationen zum Buko 2026
DTSTART:20260702T220000Z
DTEND:20260702T220000Z
DTSTAMP:20260423T081139Z
END:VEVENT
END:VCALENDAR